BEGIN:VCALENDAR
VERSION:2.0
PRODID:-//Spurlock Museum//Spurlock Museum Events//EN
X-WR-CALNAME:Spurlock Museum Events
CALSCALE:GREGORIAN  
METHOD:PUBLISH
BEGIN:VTIMEZONE
TZID:America/Chicago
X-LIC-LOCATION:America/Chicago
BEGIN:DAYLIGHT
TZOFFSETFROM:-0600
TZOFFSETTO:-0500
TZNAME:CDT
DTSTART:19700308T020000
RRULE:FREQ=YEARLY;BYMONTH=3;BYDAY=2SU
END:DAYLIGHT
BEGIN:STANDARD
TZOFFSETFROM:-0500
TZOFFSETTO:-0600
TZNAME:CST
DTSTART:19701101T020000
RRULE:FREQ=YEARLY;BYMONTH=11;BYDAY=1SU
END:STANDARD
END:VTIMEZONE
BEGIN:VEVENT
CLASS:PUBLIC
UID:spurlock-event-2596
SUMMARY;LANGUAGE=en-us:"Exhibit: Rainbow Reflections"
DESCRIPTION:"\rThis intimate exhibit offers a glimpse into the rich and complex history of LGBTQ+ life, activism, and culture. While no single exhibit can capture the full scope of queer history, this space invites reflection, recognition, and connection. It seeks to honor those who have fought for change, those who live their truth every day, and the generations continuing to imagine and build a more inclusive future.\r\rThis exhibit is generously supported by the Carden-Temple LGBTQ+ Impact Fund.\rAIDS quilt panels included in this exhibit are on loan courtesy of the Greater Community AIDS Project (GCAP).\r\r\r"
DTSTAMP:20260419T201841
DTSTART;TZID=America/Chicago:20250601
DTEND;TZID=America/Chicago:20251031
LOCATION:"Spurlock Museum\, 600 S. Gregory St.\, Urbana\, IL"
URL:https://www.spurlock.illinois.edu/events/event.php?ID=2596
END:VEVENT

END:VCALENDAR