BEGIN:VCALENDAR
VERSION:2.0
PRODID:-//Spurlock Museum//Spurlock Museum Events//EN
X-WR-CALNAME:Spurlock Museum Events
CALSCALE:GREGORIAN  
METHOD:PUBLISH
BEGIN:VTIMEZONE
TZID:America/Chicago
X-LIC-LOCATION:America/Chicago
BEGIN:DAYLIGHT
TZOFFSETFROM:-0600
TZOFFSETTO:-0500
TZNAME:CDT
DTSTART:19700308T020000
RRULE:FREQ=YEARLY;BYMONTH=3;BYDAY=2SU
END:DAYLIGHT
BEGIN:STANDARD
TZOFFSETFROM:-0500
TZOFFSETTO:-0600
TZNAME:CST
DTSTART:19701101T020000
RRULE:FREQ=YEARLY;BYMONTH=11;BYDAY=1SU
END:STANDARD
END:VTIMEZONE
BEGIN:VEVENT
CLASS:PUBLIC
UID:spurlock-event-2597
SUMMARY;LANGUAGE=en-us:"MACS Student Showcase"
DESCRIPTION:"\rThe Department of Media & Cinema Studies presents the third annual MACS Student Showcase, featuring faculty-curated work created by students in MACS classes throughout the academic year. \r\rJoin us to celebrate student media production, broadly conceived, and learn more about the variety of projects produced by students in MACS 150, 260, 370, 480, and more! \r\rDoors open at 6:30 pm. Program begins at 7:00 pm. with an intermission/reception and refreshments provided.\r"
DTSTAMP:20260420T000029
DTSTART;TZID=America/Chicago:20250510T190000
DTEND;TZID=America/Chicago:20250510T210000
LOCATION:"Knight Auditorium\, Spurlock Museum\, 600 S. Gregory St.\, Urbana\, IL"
URL:https://www.spurlock.illinois.edu/events/event.php?ID=2597
END:VEVENT

END:VCALENDAR