BEGIN:VCALENDAR
VERSION:2.0
PRODID:-//Spurlock Museum//Spurlock Museum Events//EN
X-WR-CALNAME:Spurlock Museum Events
CALSCALE:GREGORIAN  
METHOD:PUBLISH
BEGIN:VTIMEZONE
TZID:America/Chicago
X-LIC-LOCATION:America/Chicago
BEGIN:DAYLIGHT
TZOFFSETFROM:-0600
TZOFFSETTO:-0500
TZNAME:CDT
DTSTART:19700308T020000
RRULE:FREQ=YEARLY;BYMONTH=3;BYDAY=2SU
END:DAYLIGHT
BEGIN:STANDARD
TZOFFSETFROM:-0500
TZOFFSETTO:-0600
TZNAME:CST
DTSTART:19701101T020000
RRULE:FREQ=YEARLY;BYMONTH=11;BYDAY=1SU
END:STANDARD
END:VTIMEZONE
BEGIN:VEVENT
CLASS:PUBLIC
UID:spurlock-event-280
SUMMARY;LANGUAGE=en-us:"Natural History Activity Day"
DESCRIPTION:"\rHelp us celebrate the Focus Gallery exhibit Illinois: An Epic Landscape.  In addition to viewing the exhibit, your family will also enjoy activities both inside and outside the Museum.  Inside, there will be hands-on activities in the Rowe Learning Center and nature films in the Knight Auditorium.  Outside, in the Museum parking lot, the Survey’s Mobile Science Center will present the interactive, hands-on display “Arthropods Across Illinois”. Children also will receive a free animal poster, as long as supplies last.  Admission to the Museum and Science Center are free, but tickets are required for Science Center visits, which will begin on the half hour.  For ticket reservations or further information, stop by the Museum’s information desk or call the Museum at 217/333-2360.\r"
DTSTAMP:20260419T115738
DTSTART;TZID=America/Chicago:20040811T090000
DTEND;TZID=America/Chicago:20040811T170000
LOCATION:"Spurlock Museum\, 600 S. Gregory St.\, Urbana\, IL"
URL:https://www.spurlock.illinois.edu/events/event.php?ID=280
END:VEVENT

END:VCALENDAR