BEGIN:VCALENDAR
VERSION:2.0
PRODID:-//Spurlock Museum//Spurlock Museum Events//EN
X-WR-CALNAME:Spurlock Museum Events
CALSCALE:GREGORIAN  
METHOD:PUBLISH
BEGIN:VTIMEZONE
TZID:America/Chicago
X-LIC-LOCATION:America/Chicago
BEGIN:DAYLIGHT
TZOFFSETFROM:-0600
TZOFFSETTO:-0500
TZNAME:CDT
DTSTART:19700308T020000
RRULE:FREQ=YEARLY;BYMONTH=3;BYDAY=2SU
END:DAYLIGHT
BEGIN:STANDARD
TZOFFSETFROM:-0500
TZOFFSETTO:-0600
TZNAME:CST
DTSTART:19701101T020000
RRULE:FREQ=YEARLY;BYMONTH=11;BYDAY=1SU
END:STANDARD
END:VTIMEZONE
BEGIN:VEVENT
CLASS:PUBLIC
UID:spurlock-event-302
SUMMARY;LANGUAGE=en-us:"Luxurious Layers: Kimonos of the Heian Court"
DESCRIPTION:"\rThe Heian Period (794-1185) was an era of great peace for the Japanese people. The arts flourished, as aesthetic skills became the aristocratic focus. The sense of Heian style and color are beautifully reflected in the multi-layered kimono worn by members of the Court, as seen in the Spurlock Museum exhibit Luxurious Layers: Kimonos of the Heian Court. Kimono creation and symbolism, court life, and the modern continuation of kimono traditions are topics discussed among the layers of wondrous silk on display.\r\r"
DTSTAMP:20260422T095826
DTSTART;TZID=America/Chicago:20030927
DTEND;TZID=America/Chicago:20031215
LOCATION:"Spurlock Museum\, 600 S. Gregory St.\, Urbana\, IL"
URL:https://www.spurlock.illinois.edu/events/event.php?ID=302
END:VEVENT

END:VCALENDAR