BEGIN:VCALENDAR
VERSION:2.0
PRODID:-//Spurlock Museum//Spurlock Museum Events//EN
X-WR-CALNAME:Spurlock Museum Events
CALSCALE:GREGORIAN  
METHOD:PUBLISH
BEGIN:VTIMEZONE
TZID:America/Chicago
X-LIC-LOCATION:America/Chicago
BEGIN:DAYLIGHT
TZOFFSETFROM:-0600
TZOFFSETTO:-0500
TZNAME:CDT
DTSTART:19700308T020000
RRULE:FREQ=YEARLY;BYMONTH=3;BYDAY=2SU
END:DAYLIGHT
BEGIN:STANDARD
TZOFFSETFROM:-0500
TZOFFSETTO:-0600
TZNAME:CST
DTSTART:19701101T020000
RRULE:FREQ=YEARLY;BYMONTH=11;BYDAY=1SU
END:STANDARD
END:VTIMEZONE
BEGIN:VEVENT
CLASS:PUBLIC
UID:spurlock-event-303
SUMMARY;LANGUAGE=en-us:"The Japanese Kimono: History and Development Through the Ages"
DESCRIPTION:"\rA lecture by John Marshall, World-Renowned Fiber Artist\r\nReception and Fiber Art Sale Following \r\rThis 90-minute lecture and question-and-answer session traces the history and development of Japanese clothing since earliest times; how non-Japanese styles have influenced the Japanese aesthetic and where the kimono is headed in our modern world. Members of the audience are encouraged to bring clothing from their collections to share with the group. The lecture will be followed by a reception and fiber art sale.\r\rJohn Marshall is an American fiber artist specializing in the traditional Japanese techniques of Katazome (stencil dyeing) and tsutsugaki (cone drawing). He is internationally noted for his use of color and line to create truly unique one-of-a-kind art-to-wear, turning traditionally inspired aesthetics into contemporary treasures for daily life. As a teacher he is recognized for his ability to adapt traditional recipes and methods to suit local climates, resources, and temperaments; and for his ability to distill complex techniques into easy to understand steps.\r"
DTSTAMP:20260422T084026
DTSTART;TZID=America/Chicago:20031206T190000
DTEND;TZID=America/Chicago:20031206T210000
LOCATION:"Spurlock Museum\, 600 S. Gregory St.\, Urbana\, IL"
URL:https://www.spurlock.illinois.edu/events/event.php?ID=303
END:VEVENT

END:VCALENDAR