BEGIN:VCALENDAR
VERSION:2.0
PRODID:-//Spurlock Museum//Spurlock Museum Events//EN
X-WR-CALNAME:Spurlock Museum Events
CALSCALE:GREGORIAN  
METHOD:PUBLISH
BEGIN:VTIMEZONE
TZID:America/Chicago
X-LIC-LOCATION:America/Chicago
BEGIN:DAYLIGHT
TZOFFSETFROM:-0600
TZOFFSETTO:-0500
TZNAME:CDT
DTSTART:19700308T020000
RRULE:FREQ=YEARLY;BYMONTH=3;BYDAY=2SU
END:DAYLIGHT
BEGIN:STANDARD
TZOFFSETFROM:-0500
TZOFFSETTO:-0600
TZNAME:CST
DTSTART:19701101T020000
RRULE:FREQ=YEARLY;BYMONTH=11;BYDAY=1SU
END:STANDARD
END:VTIMEZONE
BEGIN:VEVENT
CLASS:PUBLIC
UID:spurlock-event-306
SUMMARY;LANGUAGE=en-us:"Korean Dollmaking Demonstration"
DESCRIPTION:"\rA demonstration by dollmaker Soon Oak Kim\r\rTo celebrate the opening of \"Korean Dolls: A Celebration of Life,\" dollmaker Soon Oak Kim will demonstrate her art and answer visitor questions in the Museum lobby.\r"
DTSTAMP:20260422T083905
DTSTART;TZID=America/Chicago:20031115T103000
DTEND;TZID=America/Chicago:20031115T123000
LOCATION:"Spurlock Museum\, 600 S. Gregory St.\, Urbana\, IL"
URL:https://www.spurlock.illinois.edu/events/event.php?ID=306
END:VEVENT

END:VCALENDAR