BEGIN:VCALENDAR
VERSION:2.0
PRODID:-//Spurlock Museum//Spurlock Museum Events//EN
X-WR-CALNAME:Spurlock Museum Events
CALSCALE:GREGORIAN  
METHOD:PUBLISH
BEGIN:VTIMEZONE
TZID:America/Chicago
X-LIC-LOCATION:America/Chicago
BEGIN:DAYLIGHT
TZOFFSETFROM:-0600
TZOFFSETTO:-0500
TZNAME:CDT
DTSTART:19700308T020000
RRULE:FREQ=YEARLY;BYMONTH=3;BYDAY=2SU
END:DAYLIGHT
BEGIN:STANDARD
TZOFFSETFROM:-0500
TZOFFSETTO:-0600
TZNAME:CST
DTSTART:19701101T020000
RRULE:FREQ=YEARLY;BYMONTH=11;BYDAY=1SU
END:STANDARD
END:VTIMEZONE
BEGIN:VEVENT
CLASS:PUBLIC
UID:spurlock-event-322
SUMMARY;LANGUAGE=en-us:"Sailing Ships and Jumbo Jets and the Caribbean-African Diaspora"
DESCRIPTION:"\rA lecture by Dr. John Nunley\r\rThe lecture is the second event in the Spurlock Museum Distinguished Lecture Series on Latin American and Caribbean Cultures.\r"
DTSTAMP:20260422T220430
DTSTART;TZID=America/Chicago:20030313T160000
DTEND;TZID=America/Chicago:20030313T180000
LOCATION:"Knight Auditorium\, Spurlock Museum\, 600 S. Gregory St.\, Urbana\, IL"
URL:https://www.spurlock.illinois.edu/events/event.php?ID=322
END:VEVENT

END:VCALENDAR