BEGIN:VCALENDAR
VERSION:2.0
PRODID:-//Spurlock Museum//Spurlock Museum Events//EN
X-WR-CALNAME:Spurlock Museum Events
CALSCALE:GREGORIAN  
METHOD:PUBLISH
BEGIN:VTIMEZONE
TZID:America/Chicago
X-LIC-LOCATION:America/Chicago
BEGIN:DAYLIGHT
TZOFFSETFROM:-0600
TZOFFSETTO:-0500
TZNAME:CDT
DTSTART:19700308T020000
RRULE:FREQ=YEARLY;BYMONTH=3;BYDAY=2SU
END:DAYLIGHT
BEGIN:STANDARD
TZOFFSETFROM:-0500
TZOFFSETTO:-0600
TZNAME:CST
DTSTART:19701101T020000
RRULE:FREQ=YEARLY;BYMONTH=11;BYDAY=1SU
END:STANDARD
END:VTIMEZONE
BEGIN:VEVENT
CLASS:PUBLIC
UID:spurlock-event-323
SUMMARY;LANGUAGE=en-us:"The Virtual Mummy"
DESCRIPTION:"\rA presentation by Dr. Sarah Wisseman\r\rIn 1989, the World Heritage Museum (now the Spurlock Museum) received an Ancient Egyptian human mummy into its collections. Extensive, non-invasive research was done to determine as much information as possible about it. In her presentation, Dr. Wisseman will discuss this fascinating process and the data it uncovered. A reception and signing of Dr. Wisseman's book, The Virtual Mummy, will follow the presentation.\r"
DTSTAMP:20260422T203227
DTSTART;TZID=America/Chicago:20030308T160000
DTEND;TZID=America/Chicago:20030308T180000
LOCATION:"Knight Auditorium\, Spurlock Museum\, 600 S. Gregory St.\, Urbana\, IL"
URL:https://www.spurlock.illinois.edu/events/event.php?ID=323
END:VEVENT

END:VCALENDAR