BEGIN:VCALENDAR
VERSION:2.0
PRODID:-//Spurlock Museum//Spurlock Museum Events//EN
X-WR-CALNAME:Spurlock Museum Events
CALSCALE:GREGORIAN  
METHOD:PUBLISH
BEGIN:VTIMEZONE
TZID:America/Chicago
X-LIC-LOCATION:America/Chicago
BEGIN:DAYLIGHT
TZOFFSETFROM:-0600
TZOFFSETTO:-0500
TZNAME:CDT
DTSTART:19700308T020000
RRULE:FREQ=YEARLY;BYMONTH=3;BYDAY=2SU
END:DAYLIGHT
BEGIN:STANDARD
TZOFFSETFROM:-0500
TZOFFSETTO:-0600
TZNAME:CST
DTSTART:19701101T020000
RRULE:FREQ=YEARLY;BYMONTH=11;BYDAY=1SU
END:STANDARD
END:VTIMEZONE
BEGIN:VEVENT
CLASS:PUBLIC
UID:spurlock-event-326
SUMMARY;LANGUAGE=en-us:"\"Structural Violence and the Struggle for Happiness: Creating Physical and Mental Health\""
DESCRIPTION:"\rAfro-American Studies & Research Program Spring Symposium\r\rOn February 12th & 13th, the Afro-American Studies & Research Program will hold panel discussions at the Spurlock Museum's Knight Auditorium. These panels are part of the AASRP's annual Spring Symposiums. The panels will discuss topics centering around \"Structural Violence and the Struggle for Happiness: Creating Physical and Mental Health\".\r"
DTSTAMP:20260422T155049
DTSTART;TZID=America/Chicago:20030212T160000
DTEND;TZID=America/Chicago:20030213T180000
LOCATION:"Spurlock Museum\, 600 S. Gregory St.\, Urbana\, IL"
URL:https://www.spurlock.illinois.edu/events/event.php?ID=326
END:VEVENT

END:VCALENDAR