BEGIN:VCALENDAR
VERSION:2.0
PRODID:-//Spurlock Museum//Spurlock Museum Events//EN
X-WR-CALNAME:Spurlock Museum Events
CALSCALE:GREGORIAN  
METHOD:PUBLISH
BEGIN:VTIMEZONE
TZID:America/Chicago
X-LIC-LOCATION:America/Chicago
BEGIN:DAYLIGHT
TZOFFSETFROM:-0600
TZOFFSETTO:-0500
TZNAME:CDT
DTSTART:19700308T020000
RRULE:FREQ=YEARLY;BYMONTH=3;BYDAY=2SU
END:DAYLIGHT
BEGIN:STANDARD
TZOFFSETFROM:-0500
TZOFFSETTO:-0600
TZNAME:CST
DTSTART:19701101T020000
RRULE:FREQ=YEARLY;BYMONTH=11;BYDAY=1SU
END:STANDARD
END:VTIMEZONE
BEGIN:VEVENT
CLASS:PUBLIC
UID:spurlock-event-328
SUMMARY;LANGUAGE=en-us:"Winter Time of Telling: Native American Trickster Tales"
DESCRIPTION:"\rStorytelling Event \r\rPerformers: Florence Dunham (Mohawk), Larry Lockwood (Northern Cheyenne), and Andrew Favorite (Ojibwa White Earth Band). The concert will begin and end with a performance by Cricketthill Drum. \r\rThe concert is presented by the Spurlock Museum and the Committee for Native American Programs and is co-sponsored by The Newberry Library, Red Path Theater, American Indian Center, Native American Educational Services College, and a grant from the Illinois Arts Council, a state agency.\r"
DTSTAMP:20260422T125122
DTSTART;TZID=America/Chicago:20030201T130000
DTEND;TZID=America/Chicago:20030201T150000
LOCATION:"Spurlock Museum\, 600 S. Gregory St.\, Urbana\, IL"
URL:https://www.spurlock.illinois.edu/events/event.php?ID=328
END:VEVENT

END:VCALENDAR