BEGIN:VCALENDAR
VERSION:2.0
PRODID:-//Spurlock Museum//Spurlock Museum Events//EN
X-WR-CALNAME:Spurlock Museum Events
CALSCALE:GREGORIAN  
METHOD:PUBLISH
BEGIN:VTIMEZONE
TZID:America/Chicago
X-LIC-LOCATION:America/Chicago
BEGIN:DAYLIGHT
TZOFFSETFROM:-0600
TZOFFSETTO:-0500
TZNAME:CDT
DTSTART:19700308T020000
RRULE:FREQ=YEARLY;BYMONTH=3;BYDAY=2SU
END:DAYLIGHT
BEGIN:STANDARD
TZOFFSETFROM:-0500
TZOFFSETTO:-0600
TZNAME:CST
DTSTART:19701101T020000
RRULE:FREQ=YEARLY;BYMONTH=11;BYDAY=1SU
END:STANDARD
END:VTIMEZONE
BEGIN:VEVENT
CLASS:PUBLIC
UID:spurlock-event-770
SUMMARY;LANGUAGE=en-us:"Exhibit: <em>Inspired by…Works of the C-U Spinners and Weavers Guild<\/em>"
DESCRIPTION:"\rThe Spurlock Museum celebrates creativity, inspiration, and fiberworking in this unique exhibit. Representing an intensive, three-year collaboration with the C-U Spinners and Weavers Guild, the exhibit combines Museum artifacts, some not displayed for decades, with original Guild member artworks they have inspired. The exhibit will include video interviews with the artists and insights into their creative journey through notes and design booklets.\r\rThe Spurlock Museum’s changing exhibits are made possible through a gift from Allan C. and Marlene S. Campbell and supported in part by the Illinois Arts Council, a state agency.\r"
DTSTAMP:20260425T023233
DTSTART;TZID=America/Chicago:19691231T180000
DTEND;TZID=America/Chicago:20140309T200000
LOCATION:"Campbell Gallery\, Spurlock Museum\, 600 S. Gregory St.\, Urbana\, IL"
URL:https://www.spurlock.illinois.edu/events/event.php?ID=770
END:VEVENT

END:VCALENDAR