BEGIN:VCALENDAR
VERSION:2.0
PRODID:-//Spurlock Museum//Spurlock Museum Events//EN
X-WR-CALNAME:Spurlock Museum Events
CALSCALE:GREGORIAN  
METHOD:PUBLISH
BEGIN:VTIMEZONE
TZID:America/Chicago
X-LIC-LOCATION:America/Chicago
BEGIN:DAYLIGHT
TZOFFSETFROM:-0600
TZOFFSETTO:-0500
TZNAME:CDT
DTSTART:19700308T020000
RRULE:FREQ=YEARLY;BYMONTH=3;BYDAY=2SU
END:DAYLIGHT
BEGIN:STANDARD
TZOFFSETFROM:-0500
TZOFFSETTO:-0600
TZNAME:CST
DTSTART:19701101T020000
RRULE:FREQ=YEARLY;BYMONTH=11;BYDAY=1SU
END:STANDARD
END:VTIMEZONE
BEGIN:VEVENT
CLASS:PUBLIC
UID:spurlock-event-793
SUMMARY;LANGUAGE=en-us:"Special Installation: <em>The Cooking Pot that Changed the World<\/em>"
DESCRIPTION:"\rWhen people make lists of objects that have changed the world, they often include computers, telephones, the printing press, or the wheel. Few would include a simple iron pot. Visit this pot in our Central Core Gallery, learn its valuable place in history, and find out how it represents a wonderful, new Museum collaboration.\r"
DTSTAMP:20260424T223514
DTSTART;TZID=America/Chicago:19691231T180000
DTEND;TZID=America/Chicago:20170402T200000
LOCATION:"Hundley Central Core Gallery\, Spurlock Museum\, 600 S. Gregory St.\, Urbana\, IL"
URL:https://www.spurlock.illinois.edu/events/event.php?ID=793
END:VEVENT

END:VCALENDAR