BEGIN:VCALENDAR
VERSION:2.0
PRODID:-//Spurlock Museum//Spurlock Museum Events//EN
X-WR-CALNAME:Spurlock Museum Events
CALSCALE:GREGORIAN  
METHOD:PUBLISH
BEGIN:VTIMEZONE
TZID:America/Chicago
X-LIC-LOCATION:America/Chicago
BEGIN:DAYLIGHT
TZOFFSETFROM:-0600
TZOFFSETTO:-0500
TZNAME:CDT
DTSTART:19700308T020000
RRULE:FREQ=YEARLY;BYMONTH=3;BYDAY=2SU
END:DAYLIGHT
BEGIN:STANDARD
TZOFFSETFROM:-0500
TZOFFSETTO:-0600
TZNAME:CST
DTSTART:19701101T020000
RRULE:FREQ=YEARLY;BYMONTH=11;BYDAY=1SU
END:STANDARD
END:VTIMEZONE
BEGIN:VEVENT
CLASS:PUBLIC
UID:spurlock-event-795
SUMMARY;LANGUAGE=en-us:"Special Installation and Demonstration: <em>Some Like It Hot!<\/em>"
DESCRIPTION:"\rOne of the most destructive forces to confront museum artifacts is one of the smallest: insects. Behind the scenes, Spurlock Museum staff members work hard to kill the bugs without damaging the objects. On August 6 through 8, an exciting and innovative method for stopping infestations—a portable heating tent—will be in use and on public display in the Museum.\r\rOn Thursday, August 8, from 2-4 PM, join the staff for Bug Off!, a session on pest prevention and artifact preservation for visitors of all ages.\r\r"
DTSTAMP:20260425T003159
DTSTART;TZID=America/Chicago:19691231T180000
DTEND;TZID=America/Chicago:20130808T200000
LOCATION:"Hundley Central Core Gallery\, Spurlock Museum\, 600 S. Gregory St.\, Urbana\, IL"
URL:https://www.spurlock.illinois.edu/events/event.php?ID=795
END:VEVENT

END:VCALENDAR