BEGIN:VCALENDAR
VERSION:2.0
PRODID:-//Spurlock Museum//Spurlock Museum Events//EN
X-WR-CALNAME:Spurlock Museum Events
CALSCALE:GREGORIAN  
METHOD:PUBLISH
BEGIN:VTIMEZONE
TZID:America/Chicago
X-LIC-LOCATION:America/Chicago
BEGIN:DAYLIGHT
TZOFFSETFROM:-0600
TZOFFSETTO:-0500
TZNAME:CDT
DTSTART:19700308T020000
RRULE:FREQ=YEARLY;BYMONTH=3;BYDAY=2SU
END:DAYLIGHT
BEGIN:STANDARD
TZOFFSETFROM:-0500
TZOFFSETTO:-0600
TZNAME:CST
DTSTART:19701101T020000
RRULE:FREQ=YEARLY;BYMONTH=11;BYDAY=1SU
END:STANDARD
END:VTIMEZONE
BEGIN:VEVENT
CLASS:PUBLIC
UID:spurlock-event-796
SUMMARY;LANGUAGE=en-us:"A Foot Stompin’ Good Time: Cajun Dance and Dance Workshop featuring The Cornstalkers Cajun Band"
DESCRIPTION:"\rBring the family and join the Cornstalkers in a foot stompin’ evening of cajun and zydeco music from southwest Louisiana. Matt Turino on fiddle, Tom Turino on accordion, Randy Cordle on guitar, JB Faires on bass, and Kristi Emilsson on triangle.\r\rSee YouTube video of the Cornstalkers performing 'Parting Waltz' (external link)  and 'Fort Washington Two Step' (external link) at WEFT FEST 2012.\r\rThis event is presented by the Spurlock Museum in collaboration with C-U Folk and Roots. It is partially supported by a grant from the Illinois Arts Council Agency.\r\r"
DTSTAMP:20260425T041649
DTSTART;TZID=America/Chicago:19691231T180000
DTEND;TZID=America/Chicago:20130831T200000
LOCATION:"Urbana-Champaign Independent Media Center\, 202 S Broadway Ave\, Urbana\, IL 61801 (217-344-8820)"
URL:https://www.spurlock.illinois.edu/events/event.php?ID=796
END:VEVENT

END:VCALENDAR