BEGIN:VCALENDAR
VERSION:2.0
PRODID:-//Spurlock Museum//Spurlock Museum Events//EN
X-WR-CALNAME:Spurlock Museum Events
CALSCALE:GREGORIAN  
METHOD:PUBLISH
BEGIN:VTIMEZONE
TZID:America/Chicago
X-LIC-LOCATION:America/Chicago
BEGIN:DAYLIGHT
TZOFFSETFROM:-0600
TZOFFSETTO:-0500
TZNAME:CDT
DTSTART:19700308T020000
RRULE:FREQ=YEARLY;BYMONTH=3;BYDAY=2SU
END:DAYLIGHT
BEGIN:STANDARD
TZOFFSETFROM:-0500
TZOFFSETTO:-0600
TZNAME:CST
DTSTART:19701101T020000
RRULE:FREQ=YEARLY;BYMONTH=11;BYDAY=1SU
END:STANDARD
END:VTIMEZONE
BEGIN:VEVENT
CLASS:PUBLIC
UID:spurlock-event-964
SUMMARY;LANGUAGE=en-us:"Lecture: \"The Latest from Stonehenge: New Findings, New Facilities.\" by Fred Christensen"
DESCRIPTION:"\rDuring the last decade, important new excavations and research have added greatly to our knowledge of Britain's most famous prehistoric monument.  Within the last year, a new state-of-the-art visitors' center at Stonehenge has opened, displaying this new knowledge in a very effective way.   A summary of the new findings and a PowerPoint tour of the new center will be provided by Fred Christensen, president of the East Central Illinois Archaeological Society and a frequent visitor to Britain's ancient sites.\r\rThis event is organized by the Central Illinois Society of the Archaeological Institute of America and hosted by the Spurlock Museum.\r\r"
DTSTAMP:20260422T112017
DTSTART;TZID=America/Chicago:20150222T150000
DTEND;TZID=America/Chicago:20150222T170000
LOCATION:"Knight Auditorium\, Spurlock Museum\, 600 S. Gregory St.\, Urbana\, IL"
URL:https://www.spurlock.illinois.edu/events/event.php?ID=964
END:VEVENT

END:VCALENDAR