BEGIN:VCALENDAR
VERSION:2.0
PRODID:-//Spurlock Museum//Spurlock Museum Events//EN
X-WR-CALNAME:Spurlock Museum Events
CALSCALE:GREGORIAN  
METHOD:PUBLISH
BEGIN:VTIMEZONE
TZID:America/Chicago
X-LIC-LOCATION:America/Chicago
BEGIN:DAYLIGHT
TZOFFSETFROM:-0600
TZOFFSETTO:-0500
TZNAME:CDT
DTSTART:19700308T020000
RRULE:FREQ=YEARLY;BYMONTH=3;BYDAY=2SU
END:DAYLIGHT
BEGIN:STANDARD
TZOFFSETFROM:-0500
TZOFFSETTO:-0600
TZNAME:CST
DTSTART:19701101T020000
RRULE:FREQ=YEARLY;BYMONTH=11;BYDAY=1SU
END:STANDARD
END:VTIMEZONE
BEGIN:VEVENT
CLASS:PUBLIC
UID:spurlock-event-992
SUMMARY;LANGUAGE=en-us:"Lecture: \"Objects and History from the Native American Art Collection in the Spurlock Museum\" by Robert Morrissey"
DESCRIPTION:"\rThis talk and gallery tour will view Native American art objects and material culture as historical sources, ones that reflect diversity, constancy and change in the Native past, as well as special relationships between people and place in the Americas.\r\rThis event is organized by the Central Illinois Society of the Archaeological Institute of America and hosted by the Spurlock Museum.\r\rVisit http://www.archaeological.org/societies/centralillinoisurbana (external link)  for more information.\r\r"
DTSTAMP:20260419T225653
DTSTART;TZID=America/Chicago:20150315T150000
DTEND;TZID=America/Chicago:20150315T170000
LOCATION:"Knight Auditorium\, Spurlock Museum\, 600 S. Gregory St.\, Urbana\, IL"
URL:https://www.spurlock.illinois.edu/events/event.php?ID=992
END:VEVENT

END:VCALENDAR