BEGIN:VCALENDAR
VERSION:2.0
PRODID:-//Spurlock Museum//Spurlock Museum Events//EN
X-WR-CALNAME:Spurlock Museum Events
CALSCALE:GREGORIAN  
METHOD:PUBLISH
BEGIN:VTIMEZONE
TZID:America/Chicago
X-LIC-LOCATION:America/Chicago
BEGIN:DAYLIGHT
TZOFFSETFROM:-0600
TZOFFSETTO:-0500
TZNAME:CDT
DTSTART:19700308T020000
RRULE:FREQ=YEARLY;BYMONTH=3;BYDAY=2SU
END:DAYLIGHT
BEGIN:STANDARD
TZOFFSETFROM:-0500
TZOFFSETTO:-0600
TZNAME:CST
DTSTART:19701101T020000
RRULE:FREQ=YEARLY;BYMONTH=11;BYDAY=1SU
END:STANDARD
END:VTIMEZONE
BEGIN:VEVENT
CLASS:PUBLIC
UID:spurlock-event-997
SUMMARY;LANGUAGE=en-us:"CAS\/MillerComm Lecture: \"GO: Organic Orchestra--Process and Prototype\" by Adam Rudolph"
DESCRIPTION:"\rA pioneering \"world music\" percussionist and composer at the forefront of cross-cultural music projects since the late 1970's, Adam Rudolph discusses his research and performance experiences in various music cultures over the past 40 years, and how aspects of their cosmologies inspire and influence his creative process.  By illustrating this artistic background, he offers an evolutionary construct of GO: Organic Orchestra, a concept of techniques and compositional strategies for conducted improvisation that provides the ability to uniquely develop large performance ensembles uniting a wide-range of musical disciplines.\r\rThe CAS/MillerComm public events series brings to campus people who offer unique cross-disciplinary contributions to the intellectual and cultural life of the university.\r\rThis Center for Advanced Study event is hosted by the Robert E. Brown Center for World Music and the School of Music in conjunction with the Composition-Theory Division, School of Music, Department of African American Studies, Department of Dance, Illinois Program for Research in the Humanities, Jazz Division, School of Music, Krannert Center for the Performing Arts, Krannert Art Museum, Musicology Division, School of Music, Sousa Archives and Center for American Music, and the Spurlock Museum with special support from Bruno and Wanda Nettl.\r"
DTSTAMP:20260422T220424
DTSTART;TZID=America/Chicago:20150127T160000
DTEND;TZID=America/Chicago:20150127T173000
LOCATION:"Knight Auditorium\, Spurlock Museum\, 600 S. Gregory St.\, Urbana\, IL"
URL:https://www.spurlock.illinois.edu/events/event.php?ID=997
END:VEVENT

END:VCALENDAR