BEGIN:VCALENDAR
VERSION:2.0
PRODID:-//Spurlock Museum//Spurlock Museum Events//EN
X-WR-CALNAME:Spurlock Museum Events
CALSCALE:GREGORIAN  
METHOD:PUBLISH
BEGIN:VTIMEZONE
TZID:America/Chicago
X-LIC-LOCATION:America/Chicago
BEGIN:DAYLIGHT
TZOFFSETFROM:-0600
TZOFFSETTO:-0500
TZNAME:CDT
DTSTART:19700308T020000
RRULE:FREQ=YEARLY;BYMONTH=3;BYDAY=2SU
END:DAYLIGHT
BEGIN:STANDARD
TZOFFSETFROM:-0500
TZOFFSETTO:-0600
TZNAME:CST
DTSTART:19701101T020000
RRULE:FREQ=YEARLY;BYMONTH=11;BYDAY=1SU
END:STANDARD
END:VTIMEZONE
BEGIN:VEVENT
CLASS:PUBLIC
UID:spurlock-event-999
SUMMARY;LANGUAGE=en-us:"\"The Spatial Politics of Marginality\" by Swati Chattopadhyay"
DESCRIPTION:"\rHow does one recuperate from the archive, spaces and people who have been marginalized, dominated as it is by the discourse of the elite and powerful? How do we access the everyday spaces of women and servants who have left only small footprints in the historical archive? How do we recognize practices that challenge the dominant view of the state? These processes often involve spaces that may not be small in extent but remain peripheral in disposition, importance, and imagination and are marked by the difficulty of representation. Utilizing examples from domestic spaces of British colonial India and urban sites in postcolonial India, I will argue for a geography of small spaces that might help us understand the representational logic of marginality. Recognition of such a geography, I will suggest, must entail a radical understanding of materiality.\r\rThis Illinois Program for Research in the Humanities (IPRH) event is co-sponsored by the Spurlock Museum.\r\r"
DTSTAMP:20260422T095954
DTSTART;TZID=America/Chicago:20150303T163000
DTEND;TZID=America/Chicago:20150303T180000
LOCATION:"Knight Auditorium\, Spurlock Museum\, 600 S. Gregory St.\, Urbana\, IL"
URL:https://www.spurlock.illinois.edu/events/event.php?ID=999
END:VEVENT

END:VCALENDAR